BEGIN:VCALENDAR
PRODID:-//kirchenweb.ch gmbh//veranstaltungsausgabe v2.0//DE
VERSION:2.0
METHOD:PUBLISH
BEGIN:VEVENT
DTSTART:20230514T083000Z
DTEND:20230514T093000Z
LOCATION:Stadtkirche Frauenfeld \, Zürcherstrasse 181\, 8500 Frauenfeld
TRANSP:OPAQUE
SEQUENCE:0
UID:35450-veranstaltung@kath-frauenfeldplus.ch
DTSTAMP:20230512T111850Z
DESCRIPTION:Kontakt: claudia.frei@kath-frauenfeldplus.ch\n\nWeitere Infos:
  https://www.kath-frauenfeldplus.ch/veranstaltung/35450
SUMMARY:Eucharistiefeier Stadtkirche Einsetzung
PRIORITY:5
X-MICROSOFT-CDO-IMPORTANCE:1
CLASS:PUBLIC
END:VEVENT
END:VCALENDAR
