BEGIN:VCALENDAR
PRODID:-//kirchenweb.ch gmbh//veranstaltungsausgabe v2.0//DE
VERSION:2.0
METHOD:PUBLISH
BEGIN:VEVENT
DTSTART:20251220T130000Z
DTEND:20251220T200000Z
LOCATION:Markstand bei der katholischen Stadtkirche St. Nikolaus\,
  Zürcherstrasse 181\, 8500 Frauenfeld
TRANSP:OPAQUE
SEQUENCE:0
UID:43508-veranstaltung@kath-frauenfeldplus.ch
DTSTAMP:20250812T134107Z
DESCRIPTION:Wir betreuen einen Stand am Weihnachtsmarkt in Frauenfeld.
 \nBesuchende können dort eine Kerze anzünden\, spenden und damit ein
  Zeichen für mehr Solidarität mit armutsbetroffenen Familien in der
  Schweiz setzen.\n\nZu diesem Firmprojekt gibt es einen Vorbereitungsabend
  am Mittwoch\, 17. Dezember 2025 um 19.00 Uhr im Pfarreizentrum
  Klösterli.\n\nDeine Schicht am Weihnachtsmarkt wird zwischen 14.00 -
  21.00 Uhr circa 1h 30min dauern. Die Einteilung findet am
  Vorbereitungsabend statt.\n\nKontakt: david.hug@kath-frauenfeldplus.ch\n
 \nWeitere Infos: https://www.kath-frauenfeldplus.ch/veranstaltung/43508
SUMMARY:Firmprojekt - Eine Million Sterne
PRIORITY:5
X-MICROSOFT-CDO-IMPORTANCE:1
CLASS:PUBLIC
END:VEVENT
END:VCALENDAR
