BEGIN:VCALENDAR
PRODID:-//kirchenweb.ch gmbh//veranstaltungsausgabe v2.0//DE
VERSION:2.0
METHOD:PUBLISH
BEGIN:VEVENT
DTSTART:20251220T163000Z
DTEND:20251220T173000Z
LOCATION:Stadtkirche Frauenfeld\, Zürcherstrasse 181\, 8500 Frauenfeld
TRANSP:OPAQUE
SEQUENCE:0
UID:44094-veranstaltung@kath-frauenfeldplus.ch
DTSTAMP:20251211T143934Z
DESCRIPTION:Kontakt: claudia.frei@kath-frauenfeldplus.ch\n\nWeitere Infos:
  https://www.kath-frauenfeldplus.ch/veranstaltung/44094
SUMMARY:Versöhnungsfeier Stadtkirche - mit anschliessender
  Beichtgelegenheit
PRIORITY:5
X-MICROSOFT-CDO-IMPORTANCE:1
CLASS:PUBLIC
END:VEVENT
END:VCALENDAR
