BEGIN:VCALENDAR
PRODID:-//kirchenweb.ch gmbh//veranstaltungsausgabe v2.0//DE
VERSION:2.0
METHOD:PUBLISH
BEGIN:VEVENT
DTSTART:20251225T093000Z
DTEND:20251225T103000Z
LOCATION:Stadtkirche Frauenfeld\, Zürcherstrasse 181\, 8500 Frauenfeld
TRANSP:OPAQUE
SEQUENCE:0
UID:44098-veranstaltung@kath-frauenfeldplus.ch
DTSTAMP:20250825T130846Z
DESCRIPTION:Weihnachten\n\nKontakt: claudia.frei@kath-frauenfeldplus.ch\n
 \nWeitere Infos: https://www.kath-frauenfeldplus.ch/veranstaltung/44098
SUMMARY:Eucharistiefeier zum Weihnachtstag Stadtkirche
PRIORITY:5
X-MICROSOFT-CDO-IMPORTANCE:1
CLASS:PUBLIC
END:VEVENT
END:VCALENDAR
