BEGIN:VCALENDAR
PRODID:-//kirchenweb.ch gmbh//veranstaltungsausgabe v2.0//DE
VERSION:2.0
METHOD:PUBLISH
BEGIN:VEVENT
DTSTART:20260514T080000Z
DTEND:20260514T090000Z
LOCATION:Im Bohl oberhalb Kalchrain\, \,
TRANSP:OPAQUE
SEQUENCE:0
UID:44410-veranstaltung@kath-frauenfeldplus.ch
DTSTAMP:20260302T085251Z
DESCRIPTION:Kontakt: claudia.frei@kath-frauenfeldplus.ch\n\nWeitere Infos:
  https://www.kath-frauenfeldplus.ch/veranstaltung/44410
SUMMARY:Familiengottesdienst (Eucharistiefeier) zu Auffahrt Bohl
PRIORITY:5
X-MICROSOFT-CDO-IMPORTANCE:1
CLASS:PUBLIC
END:VEVENT
END:VCALENDAR
