BEGIN:VCALENDAR
PRODID:-//kirchenweb.ch gmbh//veranstaltungsausgabe v2.0//DE
VERSION:2.0
METHOD:PUBLISH
BEGIN:VEVENT
DTSTART:20261213T184500Z
DTEND:20261213T190000Z
LOCATION:Klösterli Frauenfeld\, Klösterliweg 6\, 8500 Frauenfeld
TRANSP:OPAQUE
SEQUENCE:0
UID:45268-veranstaltung@kath-frauenfeldplus.ch
DTSTAMP:20250916T133906Z
DESCRIPTION:Kontakt: David Hug\, Katechet / Jugendarbeiter RPI\n\nWeitere
  Infos: https://www.kath-frauenfeldplus.ch/veranstaltung/45268
SUMMARY:Friedenslichtfeier Klösterli
PRIORITY:5
X-MICROSOFT-CDO-IMPORTANCE:1
CLASS:PUBLIC
END:VEVENT
END:VCALENDAR
