BEGIN:VCALENDAR
PRODID:-//kirchenweb.ch gmbh//veranstaltungsausgabe v2.0//DE
VERSION:2.0
METHOD:PUBLISH
BEGIN:VEVENT
DTSTART:20260528T160000Z
DTEND:20260528T190000Z
LOCATION:Kefikon (Treffpunkt Pfarreizentrum Klösterli)\, \,
TRANSP:OPAQUE
SEQUENCE:0
UID:47859-veranstaltung@kath-frauenfeldplus.ch
DTSTAMP:20250808T094350Z
DESCRIPTION:Sommer\, Sonne\, Lieni-Park? Schon mal davon gehört oder da
  gewesen? Nein? Dann wird’s allerhöchste Zeit! Ob Fussball\,
  Beachvolley oder einfach den Wake-Boardern beim Fahren zuschauen. Im
  Lieni-Park gibt’s für jeden was zu Geniessen. Es bleibt auch definitiv
  Zeit den berühmten Lieni-Burger zu probieren!\n\n\nKontakt: Rebekka
  Schai\n\nWeitere Infos:
  https://www.kath-frauenfeldplus.ch/veranstaltung/47859
SUMMARY:AVANTI - Events: Sun & Fun im Lieni-Park
PRIORITY:5
X-MICROSOFT-CDO-IMPORTANCE:1
CLASS:PUBLIC
END:VEVENT
END:VCALENDAR
