BEGIN:VCALENDAR
PRODID:-//kirchenweb.ch gmbh//veranstaltungsausgabe v2.0//DE
VERSION:2.0
METHOD:PUBLISH
BEGIN:VEVENT
DTSTART:20251130T160000Z
DTEND:20251130T170000Z
LOCATION:Pfarreizentrum Klösterli\, Klösterliweg 6\, 8500 Frauenfeld
TRANSP:OPAQUE
SEQUENCE:0
UID:47883-veranstaltung@kath-frauenfeldplus.ch
DTSTAMP:20251110T133323Z
DESCRIPTION:ADVENT\, ADVENT\nEin Jugendgottesdienst\, in dem du gesehen
  wirst\, in dem du sein kannst\, der dir Raum schenkt.\n\nKontakt: Alessia
  Ravara\, Katechetin RPI\n\nWeitere Infos:
  https://www.kath-frauenfeldplus.ch/veranstaltung/47883
SUMMARY:BEalive - Jugendgottesdienst MUMENT
PRIORITY:5
X-MICROSOFT-CDO-IMPORTANCE:1
CLASS:PUBLIC
END:VEVENT
END:VCALENDAR
