BEGIN:VCALENDAR
PRODID:-//kirchenweb.ch gmbh//veranstaltungsausgabe v2.0//DE
VERSION:2.0
METHOD:PUBLISH
BEGIN:VEVENT
DTSTART:20260312T173000Z
DTEND:20260312T193000Z
LOCATION:Pfarreizentrum Klösterli\, Klösterliweg 6\, 8500 Frauenfeld
TRANSP:OPAQUE
SEQUENCE:0
UID:47888-veranstaltung@kath-frauenfeldplus.ch
DTSTAMP:20260226T081603Z
DESCRIPTION:Gemeinsam schaffen wir Bühnenmagie!\n\nDu willst
  Theaterspielen und Bühnenerfahrung sammeln? Du willst Spass haben und
  Dich ausprobieren? Oder möchtest Du ganz einfach mal Theaterluft vor\,
  hinter oder auf der Bühne schnuppern?\n\nBei unserem Projekt darfst Du
  Dich vielseitig einbringen und kreativ sein. Du willst mal wer anders
  sein\, in eine neue Figur schlüpfen? Wir üben uns im Rollenspiel. Oder
  magst Du es lieber\, Dich gestalterisch um ein schönes Bühnenbild oder
  die richtige Lichtinszenierung zu kümmern? Gemeinsam werden wir
  Geschichten zum Leben erwecken!\n\nGenaueres zum Projekt und Anmeldung
  zum Kick-off Abend findest Du hier:
 \nhttps://www.kath-frauenfeldplus.ch/stagecrew\n\nIch freu mich auf dich!
 \nAlessia\n\n\n\nKontakt: Alessia Ravara\, Katechetin RPI\n\nWeitere
  Infos: https://www.kath-frauenfeldplus.ch/veranstaltung/47888
SUMMARY:Stage Crew Kick-off
PRIORITY:5
X-MICROSOFT-CDO-IMPORTANCE:1
CLASS:PUBLIC
END:VEVENT
END:VCALENDAR
