BEGIN:VCALENDAR
PRODID:-//kirchenweb.ch gmbh//veranstaltungsausgabe v2.0//DE
VERSION:2.0
METHOD:PUBLISH
BEGIN:VEVENT
DTSTART:20260613T053000Z
DTEND:20260613T184200Z
LOCATION:Pfarrkirche St. Peter und Paul\, \,  Stans
TRANSP:OPAQUE
SEQUENCE:0
UID:47965-veranstaltung@kath-frauenfeldplus.ch
DTSTAMP:20260311T151655Z
DESCRIPTION:Erlebe die junge und lebendige katholische Kirche!\nVom
  12.-14. Juni findet der Weltjugendtag in Stans statt. Junge Erwachsene
  aus der ganzen Deutschschweiz sind an diesem Wochenende versammelt.\n
 \nFreu dich auf ein vielseitiges Programm mit Lobpreis\, Gottesdiensten\,
  spannenden Impulsen\, Workshops\, Marktständen und Konzerten. Der
  Weltjugendtag ist der Ort\, um neue Leute kennenzulernen\, Gemeinschaft
  zu erleben und deinen Glauben zu vertiefen. \n\nDas Programm & weitere
  Informationen findest du unter: https://wjt.ch/stans-2026/\n\nFrauenfeld
  goes Weltjugendtag Stans\nGemeinsam mit Jugendlichen und jungen
  Erwachsenen wollen wir am Samstag\, 13. Juni dieses Glaubensfest besuchen
  und mitfeiern.*\n\nProgramm:\nFür Jugendliche und junge Erwachsene ...
 \n- ... ab circa 15. bis 35. Jahren\n- ... welche offen sind für neue
  Formen Glauben zu feiern\n\nAnmeldeschluss: Mittwoch\, 27. Mai 
 \nTeilnahmebeitrag\nJunge Erwachsene über 18. Jahren zahlen nach
  Möglichkeit einen Teilnahmebeitrag von 55.-\n\nKontakt\nBei Fragen steht
  dir David gerne zur Verfügung!\nReligionspädagoge (RPI) David Hug\,
  david.hug@kath-frauenfeldplus.ch\, 079 854 55 09\n*Natürlich besteht
  auch die Möglichkeit am ganzen Programm teilzunehmen. Bitte melde dich
  hierfür direkt selbständig an.\n\nKontakt:
  david.hug@kath-frauenfeldplus.ch\n\nWeitere Infos:
  https://www.kath-frauenfeldplus.ch/veranstaltung/47965
SUMMARY:Weltjugendtag Stans
PRIORITY:5
X-MICROSOFT-CDO-IMPORTANCE:1
CLASS:PUBLIC
END:VEVENT
END:VCALENDAR
