BEGIN:VCALENDAR
PRODID:-//kirchenweb.ch gmbh//veranstaltungsausgabe v2.0//DE
VERSION:2.0
METHOD:PUBLISH
BEGIN:VEVENT
DTSTART:20261002T070000Z
DTEND:20261002T080000Z
LOCATION:Kirche St. Franziskus Hüttwilen\, Dorfstrasse\, 8536 Hüttwilen
TRANSP:OPAQUE
SEQUENCE:0
UID:48482-veranstaltung@kath-frauenfeldplus.ch
DTSTAMP:20260410T094317Z
DESCRIPTION:Kontakt: claudia.frei@kath-frauenfeldplus.ch\n\nWeitere Infos:
  https://www.kath-frauenfeldplus.ch/veranstaltung/48482
SUMMARY:Eucharistiefeier Hüttwilen
PRIORITY:5
X-MICROSOFT-CDO-IMPORTANCE:1
CLASS:PUBLIC
END:VEVENT
END:VCALENDAR
