BEGIN:VCALENDAR
PRODID:-//kirchenweb.ch gmbh//veranstaltungsausgabe v2.0//DE
VERSION:2.0
METHOD:PUBLISH
BEGIN:VEVENT
DTSTART:20260612T080000Z
DTEND:20260612T090000Z
LOCATION:Stadtgarten\, Stadtgartenweg 1\, 8500 Frauenfeld
TRANSP:OPAQUE
SEQUENCE:0
UID:48693-veranstaltung@kath-frauenfeldplus.ch
DTSTAMP:20251119T104130Z
DESCRIPTION:Kontakt: claudia.frei@kath-frauenfeldplus.ch\n\nWeitere Infos:
  https://www.kath-frauenfeldplus.ch/veranstaltung/48693
SUMMARY:Eucharistiefeier Altersheim Stadtgarten
PRIORITY:5
X-MICROSOFT-CDO-IMPORTANCE:1
CLASS:PUBLIC
END:VEVENT
END:VCALENDAR
