BEGIN:VCALENDAR
PRODID:-//kirchenweb.ch gmbh//veranstaltungsausgabe v2.0//DE
VERSION:2.0
METHOD:PUBLISH
BEGIN:VEVENT
DTSTART:20260626T080000Z
DTEND:20260626T090000Z
LOCATION:Tertianum Friedau\, St. Gallerstrasse 30\, 8500 Frauenfeld
TRANSP:OPAQUE
SEQUENCE:0
UID:48730-veranstaltung@kath-frauenfeldplus.ch
DTSTAMP:20251119T105000Z
DESCRIPTION:Kontakt: claudia.frei@kath-frauenfeldplus.ch\n\nWeitere Infos:
  https://www.kath-frauenfeldplus.ch/veranstaltung/48730
SUMMARY:Eucharistiefeier Tertianum Friedau
PRIORITY:5
X-MICROSOFT-CDO-IMPORTANCE:1
CLASS:PUBLIC
END:VEVENT
END:VCALENDAR
