BEGIN:VCALENDAR
PRODID:-//kirchenweb.ch gmbh//veranstaltungsausgabe v2.0//DE
VERSION:2.0
METHOD:PUBLISH
BEGIN:VEVENT
DTSTART:20261004T070000Z
DTEND:20261004T080000Z
LOCATION:Kirche St. Sebastian Buch\, Kirchweg 2\, 8524 Buch
TRANSP:OPAQUE
SEQUENCE:0
UID:48738-veranstaltung@kath-frauenfeldplus.ch
DTSTAMP:20260410T094500Z
DESCRIPTION:Kontakt: claudia.frei@kath-frauenfeldplus.ch\n\nWeitere Infos:
  https://www.kath-frauenfeldplus.ch/veranstaltung/48738
SUMMARY:Eucharistiefeier Buch
PRIORITY:5
X-MICROSOFT-CDO-IMPORTANCE:1
CLASS:PUBLIC
END:VEVENT
END:VCALENDAR
