BEGIN:VCALENDAR
PRODID:-//kirchenweb.ch gmbh//veranstaltungsausgabe v2.0//DE
VERSION:2.0
METHOD:PUBLISH
BEGIN:VEVENT
DTSTART:20261018T070000Z
DTEND:20261018T080000Z
LOCATION:Kirche St. Martin Warth\, Kirchgasse 25\, 8532 Warth
TRANSP:OPAQUE
SEQUENCE:0
UID:48751-veranstaltung@kath-frauenfeldplus.ch
DTSTAMP:20260410T095135Z
DESCRIPTION:Kontakt: claudia.frei@kath-frauenfeldplus.ch\n\nWeitere Infos:
  https://www.kath-frauenfeldplus.ch/veranstaltung/48751
SUMMARY:Eucharistiefeier Warth
PRIORITY:5
X-MICROSOFT-CDO-IMPORTANCE:1
CLASS:PUBLIC
END:VEVENT
END:VCALENDAR
