BEGIN:VCALENDAR
PRODID:-//kirchenweb.ch gmbh//veranstaltungsausgabe v2.0//DE
VERSION:2.0
METHOD:PUBLISH
BEGIN:VEVENT
DTSTART:20260303T170000Z
DTEND:20260303T200000Z
LOCATION:Pfarreizentrum Klösterli\, Klösterliweg 6\, 8500 Frauenfeld
TRANSP:OPAQUE
SEQUENCE:0
UID:48857-veranstaltung@kath-frauenfeldplus.ch
DTSTAMP:20260226T081618Z
DESCRIPTION:An der Schulung erfährst du alles\, was es an einem Einsatz
  zu tun gibt. Und auch wie das mit der Einsatzplanung funktioniert.
  Natürlich lernst du dort auch die ganze\, coole Crew kennen.\n\nHier
  gehts zur Anmeldung: https://www.kath-frauenfeldplus.ch/aperocrew\n
 \nKontakt: Elias Schönenberger\, Jugendarbeiter / Katechet\n\nWeitere
  Infos: https://www.kath-frauenfeldplus.ch/veranstaltung/48857
SUMMARY:Apéroschulung
PRIORITY:5
X-MICROSOFT-CDO-IMPORTANCE:1
CLASS:PUBLIC
END:VEVENT
END:VCALENDAR
