BEGIN:VCALENDAR
PRODID:-//kirchenweb.ch gmbh//veranstaltungsausgabe v2.0//DE
VERSION:2.0
METHOD:PUBLISH
BEGIN:VEVENT
DTSTART:20261108T093000Z
DTEND:20261108T103000Z
LOCATION:Stadtkirche Frauenfeld\, Zürcherstrasse 181\, 8500 Frauenfeld
TRANSP:OPAQUE
SEQUENCE:0
UID:49057-veranstaltung@kath-frauenfeldplus.ch
DTSTAMP:20260410T115626Z
DESCRIPTION:Kontakt: claudia.frei@kath-frauenfeldplus.ch\n\nWeitere Infos:
  https://www.kath-frauenfeldplus.ch/veranstaltung/49057
SUMMARY:Eucharistiefeier Stadtkirche mit Taufe
PRIORITY:5
X-MICROSOFT-CDO-IMPORTANCE:1
CLASS:PUBLIC
END:VEVENT
END:VCALENDAR
