BEGIN:VCALENDAR
PRODID:-//kirchenweb.ch gmbh//veranstaltungsausgabe v2.0//DE
VERSION:2.0
METHOD:PUBLISH
BEGIN:VEVENT
DTSTART:20261031T090000Z
DTEND:20261031T120000Z
LOCATION:Kirche Bruder Klaus Gachnang\, Islikonerstrasse\, 8547 Gachnang
TRANSP:OPAQUE
SEQUENCE:0
UID:49129-veranstaltung@kath-frauenfeldplus.ch
DTSTAMP:20260410T114926Z
DESCRIPTION:Kontakt: claudia.frei@kath-frauenfeldplus.ch\n\nWeitere Infos:
  https://www.kath-frauenfeldplus.ch/veranstaltung/49129
SUMMARY:Kirche Kunterbunt Gachnang
PRIORITY:5
X-MICROSOFT-CDO-IMPORTANCE:1
CLASS:PUBLIC
END:VEVENT
END:VCALENDAR
