BEGIN:VCALENDAR
PRODID:-//kirchenweb.ch gmbh//veranstaltungsausgabe v2.0//DE
VERSION:2.0
METHOD:PUBLISH
BEGIN:VEVENT
DTSTART:20261024T170000Z
DTEND:20261024T180000Z
LOCATION:Kirche St. Peter und Paul Uesslingen\, Kirchgasse\, 8524
  Uesslingen
TRANSP:OPAQUE
SEQUENCE:0
UID:49133-veranstaltung@kath-frauenfeldplus.ch
DTSTAMP:20260410T114620Z
DESCRIPTION:Kontakt: claudia.frei@kath-frauenfeldplus.ch\n\nWeitere Infos:
  https://www.kath-frauenfeldplus.ch/veranstaltung/49133
SUMMARY:Ökum. Gottesdienst zum Erntedank Uesslingen
PRIORITY:5
X-MICROSOFT-CDO-IMPORTANCE:1
CLASS:PUBLIC
END:VEVENT
END:VCALENDAR
