BEGIN:VCALENDAR
PRODID:-//kirchenweb.ch gmbh//veranstaltungsausgabe v2.0//DE
VERSION:2.0
METHOD:PUBLISH
BEGIN:VEVENT
DTSTART:20261031T150000Z
DTEND:20261031T160000Z
LOCATION:Kirche St. Peter und Paul Uesslingen\, \,
TRANSP:OPAQUE
SEQUENCE:0
UID:49135-veranstaltung@kath-frauenfeldplus.ch
DTSTAMP:20260410T114939Z
DESCRIPTION:Kontakt: claudia.frei@kath-frauenfeldplus.ch\n\nWeitere Infos:
  https://www.kath-frauenfeldplus.ch/veranstaltung/49135
SUMMARY:Eucharistiefeier mit Gräberbesuch Uesslingen
PRIORITY:5
X-MICROSOFT-CDO-IMPORTANCE:1
CLASS:PUBLIC
END:VEVENT
END:VCALENDAR
