BEGIN:VCALENDAR
PRODID:-//kirchenweb.ch gmbh//veranstaltungsausgabe v2.0//DE
VERSION:2.0
METHOD:PUBLISH
BEGIN:VEVENT
DTSTART:20261101T080000Z
DTEND:20261101T090000Z
LOCATION:Kirche St. Sebastian Herdern\, Frauenfelderstrasse 1\, 8535
  Herdern
TRANSP:OPAQUE
SEQUENCE:0
UID:49141-veranstaltung@kath-frauenfeldplus.ch
DTSTAMP:20260410T115017Z
DESCRIPTION:Kontakt: claudia.frei@kath-frauenfeldplus.ch\n\nWeitere Infos:
  https://www.kath-frauenfeldplus.ch/veranstaltung/49141
SUMMARY:Eucharistiefeier mit Gräberbesuch Herdern (Totengedenkfeier)
PRIORITY:5
X-MICROSOFT-CDO-IMPORTANCE:1
CLASS:PUBLIC
END:VEVENT
END:VCALENDAR
