BEGIN:VCALENDAR
PRODID:-//kirchenweb.ch gmbh//veranstaltungsausgabe v2.0//DE
VERSION:2.0
METHOD:PUBLISH
BEGIN:VEVENT
DTSTART:20261224T140000Z
DTEND:20261224T150000Z
LOCATION:Stadtkirche Frauenfeld\, Zürcherstrasse 181\, 8500 Frauenfeld
TRANSP:OPAQUE
SEQUENCE:0
UID:49159-veranstaltung@kath-frauenfeldplus.ch
DTSTAMP:20250905T115110Z
DESCRIPTION:Weitere Informationen finden Sie unter:\n/bericht/1019
 \nWeihnachtsandacht für Kinder und Familien\n\nKontakt:
  claudia.frei@kath-frauenfeldplus.ch\n\nWeitere Infos:
  https://www.kath-frauenfeldplus.ch/veranstaltung/49159
SUMMARY:Weihnachtsandacht für Kinder und Familien Stadtkirche
PRIORITY:5
X-MICROSOFT-CDO-IMPORTANCE:1
CLASS:PUBLIC
END:VEVENT
END:VCALENDAR
