BEGIN:VCALENDAR
PRODID:-//kirchenweb.ch gmbh//veranstaltungsausgabe v2.0//DE
VERSION:2.0
METHOD:PUBLISH
BEGIN:VEVENT
DTSTART:20261224T160000Z
DTEND:20261224T170000Z
LOCATION:Stadtkirche Frauenfeld\, Zürcherstrasse 181\, 8500 Frauenfeld
TRANSP:OPAQUE
SEQUENCE:0
UID:49160-veranstaltung@kath-frauenfeldplus.ch
DTSTAMP:20260410T123741Z
DESCRIPTION:mit Eucharistie\, mit Krippenspiel\n\n\nKontakt:
  claudia.frei@kath-frauenfeldplus.ch\n\nWeitere Infos:
  https://www.kath-frauenfeldplus.ch/veranstaltung/49160
SUMMARY:Familiengottesdienst mit Krippenspiel und Eucharistiefeier
  Stadtkirche
PRIORITY:5
X-MICROSOFT-CDO-IMPORTANCE:1
CLASS:PUBLIC
END:VEVENT
END:VCALENDAR
