BEGIN:VCALENDAR
PRODID:-//kirchenweb.ch gmbh//veranstaltungsausgabe v2.0//DE
VERSION:2.0
METHOD:PUBLISH
BEGIN:VEVENT
DTSTART:20261214T180000Z
DTEND:20261214T190000Z
LOCATION:Kirche Bruder Klaus Gachnang\, Islikonerstrasse\, 8547 Gachnang
TRANSP:OPAQUE
SEQUENCE:0
UID:49165-veranstaltung@kath-frauenfeldplus.ch
DTSTAMP:20260410T123249Z
DESCRIPTION:In dieser kleinen Feier vor der Kirche Bruder Klaus wird das
  Friedenslicht an alle verteilt.\nWichtig: Bitte nehmen Sie eine Laterne
  oder eine geeignete\, windgeschützte Kerze mit.\n\nKontakt:
  claudia.frei@kath-frauenfeldplus.ch\n\nWeitere Infos:
  https://www.kath-frauenfeldplus.ch/veranstaltung/49165
SUMMARY:Friedenslichtfeier mit Jubla Gachnang
PRIORITY:5
X-MICROSOFT-CDO-IMPORTANCE:1
CLASS:PUBLIC
END:VEVENT
END:VCALENDAR
