BEGIN:VCALENDAR
PRODID:-//kirchenweb.ch gmbh//veranstaltungsausgabe v2.0//DE
VERSION:2.0
METHOD:PUBLISH
BEGIN:VEVENT
DTSTART:20261224T213000Z
DTEND:20261224T223000Z
LOCATION:Kirche St. Sebastian Herdern\, Frauenfelderstrasse 1\, 8535
  Herdern
TRANSP:OPAQUE
SEQUENCE:0
UID:49170-veranstaltung@kath-frauenfeldplus.ch
DTSTAMP:20260410T123832Z
DESCRIPTION:Mitternachtsmesse\n\nKontakt:
  claudia.frei@kath-frauenfeldplus.ch\n\nWeitere Infos:
  https://www.kath-frauenfeldplus.ch/veranstaltung/49170
SUMMARY:Mitternachtsmesse Herdern
PRIORITY:5
X-MICROSOFT-CDO-IMPORTANCE:1
CLASS:PUBLIC
END:VEVENT
END:VCALENDAR
