BEGIN:VCALENDAR
PRODID:-//kirchenweb.ch gmbh//veranstaltungsausgabe v2.0//DE
VERSION:2.0
METHOD:PUBLISH
BEGIN:VEVENT
DTSTART:20261224T200000Z
DTEND:20261224T210000Z
LOCATION:Kirche St. Peter und Paul Uesslingen\, Kirchgasse\, 8524
  Uesslingen
TRANSP:OPAQUE
SEQUENCE:0
UID:49172-veranstaltung@kath-frauenfeldplus.ch
DTSTAMP:20260410T123820Z
DESCRIPTION:Mitternachtsmesse\n\nKontakt:
  claudia.frei@kath-frauenfeldplus.ch\n\nWeitere Infos:
  https://www.kath-frauenfeldplus.ch/veranstaltung/49172
SUMMARY:Mitternachtsmesse Uesslingen
PRIORITY:5
X-MICROSOFT-CDO-IMPORTANCE:1
CLASS:PUBLIC
END:VEVENT
END:VCALENDAR
