BEGIN:VCALENDAR
PRODID:-//kirchenweb.ch gmbh//veranstaltungsausgabe v2.0//DE
VERSION:2.0
METHOD:PUBLISH
BEGIN:VEVENT
DTSTART:20261224T160000Z
DTEND:20261224T170000Z
LOCATION:Reformierte Kirche Felben-Wellhausen\, Wiesenstrasse 48\, 8552
  Felben-Wellhausen
TRANSP:OPAQUE
SEQUENCE:0
UID:49176-veranstaltung@kath-frauenfeldplus.ch
DTSTAMP:20250825T134657Z
DESCRIPTION:mit Krippenspiel\n\nKontakt:
  claudia.frei@kath-frauenfeldplus.ch\n\nWeitere Infos:
  https://www.kath-frauenfeldplus.ch/veranstaltung/49176
SUMMARY:Ökum. Familiengottesdienst mit Krippenspiel Felben-Wellhausen
PRIORITY:5
X-MICROSOFT-CDO-IMPORTANCE:1
CLASS:PUBLIC
END:VEVENT
END:VCALENDAR
