BEGIN:VCALENDAR
PRODID:-//kirchenweb.ch gmbh//veranstaltungsausgabe v2.0//DE
VERSION:2.0
METHOD:PUBLISH
BEGIN:VEVENT
DTSTART:20260424T140000Z
DTEND:20260424T160000Z
LOCATION:Pfarreizentrum Klösterli\, Klösterliweg 6\, 8500 Frauenfeld
TRANSP:OPAQUE
SEQUENCE:0
UID:49210-veranstaltung@kath-frauenfeldplus.ch
DTSTAMP:20250901T091402Z
DESCRIPTION:Kontakt: Susanne Umbricht\, Katechetin\n\nWeitere Infos:
  https://www.kath-frauenfeldplus.ch/veranstaltung/49210
SUMMARY:Projekt "keep the faith"
PRIORITY:5
X-MICROSOFT-CDO-IMPORTANCE:1
CLASS:PUBLIC
END:VEVENT
END:VCALENDAR
