BEGIN:VCALENDAR
PRODID:-//kirchenweb.ch gmbh//veranstaltungsausgabe v2.0//DE
VERSION:2.0
METHOD:PUBLISH
BEGIN:VEVENT
DTSTART:20260620T073000Z
DTEND:20260620T131500Z
LOCATION:Wald\, Umgebung Frauenfeld\, \,
TRANSP:OPAQUE
SEQUENCE:0
UID:49258-veranstaltung@kath-frauenfeldplus.ch
DTSTAMP:20250905T125857Z
DESCRIPTION:Kontakt: Alessia Ravara\, Religionspädagogin\n\nWeitere
  Infos: https://www.kath-frauenfeldplus.ch/veranstaltung/49258
SUMMARY:Local Hero II
PRIORITY:5
X-MICROSOFT-CDO-IMPORTANCE:1
CLASS:PUBLIC
END:VEVENT
END:VCALENDAR
