BEGIN:VCALENDAR
PRODID:-//kirchenweb.ch gmbh//veranstaltungsausgabe v2.0//DE
VERSION:2.0
METHOD:PUBLISH
BEGIN:VEVENT
DTSTART:20260504T070000Z
DTEND:20260504T150000Z
LOCATION:Pfarreizentrum Klösterli\, Klösterliweg 6\, 8500 Frauenfeld
TRANSP:OPAQUE
SEQUENCE:0
UID:50055-veranstaltung@kath-frauenfeldplus.ch
DTSTAMP:20251203T080034Z
DESCRIPTION:Kontakt: Saskia Guler (052 375 17 71)\n\nWeitere Infos:
  https://www.kath-frauenfeldplus.ch/veranstaltung/50055
SUMMARY:Herzkissen nähen Frauengemeinschaft St. Anna
PRIORITY:5
X-MICROSOFT-CDO-IMPORTANCE:1
CLASS:PUBLIC
END:VEVENT
END:VCALENDAR
