BEGIN:VCALENDAR
PRODID:-//kirchenweb.ch gmbh//veranstaltungsausgabe v2.0//DE
VERSION:2.0
METHOD:PUBLISH
BEGIN:VEVENT
DTSTART:20261205T190000Z
DTEND:20261205T200000Z
LOCATION:Evang. Kirche Weiningen\, Kirchweg 2\, 8532 Weiningen
TRANSP:OPAQUE
SEQUENCE:0
UID:50331-veranstaltung@kath-frauenfeldplus.ch
DTSTAMP:20251106T124926Z
DESCRIPTION:Lieder - Lesungen - Stille - Fürbitten\nauf Gott ausrichten -
  anbeten - zur Ruhe kommen - auftanken\n\nKontakt: Markus Wolfender\n
 \nWeitere Infos: https://www.kath-frauenfeldplus.ch/veranstaltung/50331
SUMMARY:Taizé-Feier\, Weiningen
PRIORITY:5
X-MICROSOFT-CDO-IMPORTANCE:1
CLASS:PUBLIC
END:VEVENT
END:VCALENDAR
