BEGIN:VCALENDAR
PRODID:-//kirchenweb.ch gmbh//veranstaltungsausgabe v2.0//DE
VERSION:2.0
METHOD:PUBLISH
BEGIN:VEVENT
DTSTART:20260507T173000Z
DTEND:20260507T183000Z
LOCATION:Kirche St. Martin Warth\, Kirchgasse 25\, 8532 Warth
TRANSP:OPAQUE
SEQUENCE:0
UID:50410-veranstaltung@kath-frauenfeldplus.ch
DTSTAMP:20251117T090910Z
DESCRIPTION:Kontakt: Yvonne Kramer-Huber (052 740 00 88\, 079 488 35 84)\n
 \nWeitere Infos: https://www.kath-frauenfeldplus.ch/veranstaltung/50410
SUMMARY:Maiandacht ökum. Frauengemeinschaft Warth-Weiningen
PRIORITY:5
X-MICROSOFT-CDO-IMPORTANCE:1
CLASS:PUBLIC
END:VEVENT
END:VCALENDAR
