BEGIN:VCALENDAR
PRODID:-//kirchenweb.ch gmbh//veranstaltungsausgabe v2.0//DE
VERSION:2.0
METHOD:PUBLISH
BEGIN:VEVENT
DTSTART:20260423T170000Z
DTEND:20260423T183000Z
LOCATION:Pfarreizentrum Klösterli\, Klösterliweg 6\, 8500 Frauenfeld
TRANSP:OPAQUE
SEQUENCE:0
UID:50944-veranstaltung@kath-frauenfeldplus.ch
DTSTAMP:20260114T130818Z
DESCRIPTION:Du fragst\, wir fragen mit\n«Fahrrad oder Auto?» «Wie lebe
  ich sinnvoll?» «Was feiern wir an Pfingsten?» «Wo sitzt Gott?» Das
  Leben stellt Elias und David Fragen\, Dir auch?\n\n\nKontakt:
  david.hug@kath-frauenfeldplus.ch\n\nWeitere Infos:
  https://www.kath-frauenfeldplus.ch/veranstaltung/50944
SUMMARY:RUACH - Du fragst\, wir fragen mit
PRIORITY:5
X-MICROSOFT-CDO-IMPORTANCE:1
CLASS:PUBLIC
END:VEVENT
END:VCALENDAR
