BEGIN:VCALENDAR
PRODID:-//kirchenweb.ch gmbh//veranstaltungsausgabe v2.0//DE
VERSION:2.0
METHOD:PUBLISH
BEGIN:VEVENT
DTSTART:20260730T080000Z
DTEND:20260730T090000Z
LOCATION:Alterszentrum Wellenberg \, Poststrasse 15a\, 8552
  Felben-Wellhausen
TRANSP:OPAQUE
SEQUENCE:0
UID:51057-veranstaltung@kath-frauenfeldplus.ch
DTSTAMP:20251219T104236Z
DESCRIPTION:Kontakt: claudia.frei@kath-frauenfeldplus.ch\n\nWeitere Infos:
  https://www.kath-frauenfeldplus.ch/veranstaltung/51057
SUMMARY:Eucharistiefeier Alterszentrum Wellenberg Felben-Wellhausen
PRIORITY:5
X-MICROSOFT-CDO-IMPORTANCE:1
CLASS:PUBLIC
END:VEVENT
END:VCALENDAR
