BEGIN:VCALENDAR
PRODID:-//kirchenweb.ch gmbh//veranstaltungsausgabe v2.0//DE
VERSION:2.0
METHOD:PUBLISH
BEGIN:VEVENT
DTSTART:20260617T120000Z
DTEND:20260617T140000Z
LOCATION:Bistro "Zur Alten Kaplanei"\, Zürcherstrasse 175\, 8500
  Frauenfeld
TRANSP:OPAQUE
SEQUENCE:0
UID:51153-veranstaltung@kath-frauenfeldplus.ch
DTSTAMP:20260110T194607Z
DESCRIPTION:Weitere Informationen:
  https://www.kath-frauenfeldplus.ch/spazier-wandern\n\n\nKontakt: Diakonie
  Pfarrei St. Anna\n\nWeitere Infos:
  https://www.kath-frauenfeldplus.ch/veranstaltung/51153
SUMMARY:Spazier-Wandern in und um Frauenfeld
PRIORITY:5
X-MICROSOFT-CDO-IMPORTANCE:1
CLASS:PUBLIC
END:VEVENT
END:VCALENDAR
