BEGIN:VCALENDAR
PRODID:-//kirchenweb.ch gmbh//veranstaltungsausgabe v2.0//DE
VERSION:2.0
METHOD:PUBLISH
BEGIN:VEVENT
DTSTART:20260605T120000Z
DTEND:20260605T150000Z
LOCATION:Evangelisches Kirchgemeindehaus\, Strehlgasse\, Gachnang\, \,
TRANSP:OPAQUE
SEQUENCE:0
UID:51432-veranstaltung@kath-frauenfeldplus.ch
DTSTAMP:20260216T134343Z
DESCRIPTION:Kontakt: Silvia Schegg\, 052 720 48 45\n\nWeitere
  Informationen: https://www.kath-frauenfeldplus.ch/bericht/1593\n
 \nKontakt: claudia.steiger@kath-frauenfeldplus.ch\n\nWeitere Infos:
  https://www.kath-frauenfeldplus.ch/veranstaltung/51432
SUMMARY:Ökum. Spielnachmittag in Gachnang für Seniorinnen/Senioren
PRIORITY:5
X-MICROSOFT-CDO-IMPORTANCE:1
CLASS:PUBLIC
END:VEVENT
END:VCALENDAR
