BEGIN:VCALENDAR
PRODID:-//kirchenweb.ch gmbh//veranstaltungsausgabe v2.0//DE
VERSION:2.0
METHOD:PUBLISH
BEGIN:VEVENT
DTSTART:20260423T163000Z
DTEND:20260423T173000Z
LOCATION:KochLust\, Am Bach 8\, 8512 Thundorf\, \,
TRANSP:OPAQUE
SEQUENCE:0
UID:51574-veranstaltung@kath-frauenfeldplus.ch
DTSTAMP:20260304T101654Z
DESCRIPTION:Kontakt: Susanne Müller\, Frauengemeinschaft St. Anna\,
  susanne.muellerbi@bluewin.ch\n\nWeitere Infos:
  https://www.kath-frauenfeldplus.ch/veranstaltung/51574
SUMMARY:Kochkurs Frauengemeinschaft St. Anna
PRIORITY:5
X-MICROSOFT-CDO-IMPORTANCE:1
CLASS:PUBLIC
END:VEVENT
END:VCALENDAR
