BEGIN:VCALENDAR
PRODID:-//kirchenweb.ch gmbh//veranstaltungsausgabe v2.0//DE
VERSION:2.0
METHOD:PUBLISH
BEGIN:VEVENT
DTSTART:20261201T053000Z
DTEND:20261201T063000Z
LOCATION:Kirche St. Peter Thundorf\, Kirchberg\, 8512 Thundorf
TRANSP:OPAQUE
SEQUENCE:0
UID:51801-veranstaltung@kath-frauenfeldplus.ch
DTSTAMP:20260319T102853Z
DESCRIPTION:Kontakt: claudia.frei@kath-frauenfeldplus.ch\n\nWeitere Infos:
  https://www.kath-frauenfeldplus.ch/veranstaltung/51801
SUMMARY:Ökum. Liechtligottesdienst Thundorf
PRIORITY:5
X-MICROSOFT-CDO-IMPORTANCE:1
CLASS:PUBLIC
END:VEVENT
END:VCALENDAR
