BEGIN:VCALENDAR
PRODID:-//kirchenweb.ch gmbh//veranstaltungsausgabe v2.0//DE
VERSION:2.0
METHOD:PUBLISH
BEGIN:VEVENT
DTSTART:20261202T053000Z
DTEND:20261202T063000Z
LOCATION:Kirche St. Franziskus Hüttwilen\, Dorfstrasse\, 8536 Hüttwilen
TRANSP:OPAQUE
SEQUENCE:0
UID:51819-veranstaltung@kath-frauenfeldplus.ch
DTSTAMP:20260326T100928Z
DESCRIPTION:Kontakt: claudia.frei@kath-frauenfeldplus.ch\n\nWeitere Infos:
  https://www.kath-frauenfeldplus.ch/veranstaltung/51819
SUMMARY:Ökum. Rorate-Gottesdienst Hüttwilen
PRIORITY:5
X-MICROSOFT-CDO-IMPORTANCE:1
CLASS:PUBLIC
END:VEVENT
END:VCALENDAR
