BEGIN:VCALENDAR
PRODID:-//kirchenweb.ch gmbh//veranstaltungsausgabe v2.0//DE
VERSION:2.0
METHOD:PUBLISH
BEGIN:VEVENT
DTSTART:20261209T050000Z
DTEND:20261209T060000Z
LOCATION:Reformierte Kirche Felben-Wellhausen\, Wiesenstrasse 48\, 8552
  Felben-Wellhausen
TRANSP:OPAQUE
SEQUENCE:0
UID:51829-veranstaltung@kath-frauenfeldplus.ch
DTSTAMP:20260326T125450Z
DESCRIPTION:Kontakt: claudia.frei@kath-frauenfeldplus.ch\n\nWeitere Infos:
  https://www.kath-frauenfeldplus.ch/veranstaltung/51829
SUMMARY:Rorate Gottesdienst Felben-Wellhausen\, anschl. Zmorge
PRIORITY:5
X-MICROSOFT-CDO-IMPORTANCE:1
CLASS:PUBLIC
END:VEVENT
END:VCALENDAR
