BEGIN:VCALENDAR
PRODID:-//kirchenweb.ch gmbh//veranstaltungsausgabe v2.0//DE
VERSION:2.0
METHOD:PUBLISH
BEGIN:VEVENT
DTSTART:20260424T083000Z
DTEND:20260424T093000Z
LOCATION:Friedhof Oberkirch\, Oberkirchstrasse 56\, 8500 Frauenfeld
TRANSP:OPAQUE
SEQUENCE:0
UID:51920-veranstaltung@kath-frauenfeldplus.ch
DTSTAMP:20260417T130411Z
DESCRIPTION:Aus unserer Pfarrei heimgegangen ist:\n\nMonika Magdalena
  Ehrbar\n(+ 09.04.2026)\n\nDie Trauerfeier und Urnenbeisetzung findet in
  Frauenfeld-Oberkirch statt. Besammlung in der Abdankungshalle. \n
 \nKontakt: claudia.frei@kath-frauenfeldplus.ch\n\nWeitere Infos:
  https://www.kath-frauenfeldplus.ch/veranstaltung/51920
SUMMARY:Trauerfeier in Oberkirch
PRIORITY:5
X-MICROSOFT-CDO-IMPORTANCE:1
CLASS:PUBLIC
END:VEVENT
END:VCALENDAR
