BEGIN:VCALENDAR
PRODID:-//kirchenweb.ch gmbh//veranstaltungsausgabe v2.0//DE
VERSION:2.0
METHOD:PUBLISH
BEGIN:VEVENT
DTSTART:20260428T161500Z
DTEND:20260428T194000Z
LOCATION:Treffpunkt: Pfarreizentrum Klösterli\, Klösterliweg 6\, 8500
  Frauenfeld
TRANSP:OPAQUE
SEQUENCE:0
UID:51921-veranstaltung@kath-frauenfeldplus.ch
DTSTAMP:20260415T071948Z
DESCRIPTION:Liebe Minis\n\nHerzliche Einladung zu «Minis unter Freunden»
  ice cream & sunset!\n\nWann: Dienstag\, 28. April 2026\nZeit: 18.15 –
  21.40 Uhr \nTreffpunkt: Pfarreizentrum Klösterli\n\nWir freuen uns auf
  eine stimmungsvollen Abend bei einem feinen Glacé und schönem
  Sonnenuntergang auf dem Stählibuck\, du auch? \n\nDann melde dich gleich
  an!\n\nHerzliche Grüsse\nLukas\n\nKontakt:
  lukas.schoenenberger@kath-frauenfeldplus.ch\n\nWeitere Infos:
  https://www.kath-frauenfeldplus.ch/veranstaltung/51921
SUMMARY:"Minis unter Freunden" - ice cream & sunset
PRIORITY:5
X-MICROSOFT-CDO-IMPORTANCE:1
CLASS:PUBLIC
END:VEVENT
END:VCALENDAR
