BEGIN:VCALENDAR
PRODID:-//kirchenweb.ch gmbh//veranstaltungsausgabe v2.0//DE
VERSION:2.0
METHOD:PUBLISH
BEGIN:VEVENT
DTSTART:20260521T120000Z
DTEND:20260521T150000Z
LOCATION:Pfarreizentrum Klösterli\, Klösterliweg 6\, 8500 Frauenfeld
TRANSP:OPAQUE
SEQUENCE:0
UID:51924-veranstaltung@kath-frauenfeldplus.ch
DTSTAMP:20260415T070907Z
DESCRIPTION:Kontakt: Rita Haag\n\nWeitere Infos:
  https://www.kath-frauenfeldplus.ch/veranstaltung/51924
SUMMARY:Jass-Nachmittag
PRIORITY:5
X-MICROSOFT-CDO-IMPORTANCE:1
CLASS:PUBLIC
END:VEVENT
END:VCALENDAR
