BEGIN:VCALENDAR
PRODID:-//kirchenweb.ch gmbh//veranstaltungsausgabe v2.0//DE
VERSION:2.0
METHOD:PUBLISH
BEGIN:VEVENT
DTSTART:20260502T151500Z
DTEND:20260502T161500Z
LOCATION:Kirche St. Sebastian Herdern\, Frauenfelderstrasse 1\, 8535
  Herdern
TRANSP:OPAQUE
SEQUENCE:0
UID:51938-veranstaltung@kath-frauenfeldplus.ch
DTSTAMP:20260415T123229Z
DESCRIPTION:Kontakt: claudia.frei@kath-frauenfeldplus.ch\n\nWeitere Infos:
  https://www.kath-frauenfeldplus.ch/veranstaltung/51938
SUMMARY:Wallfahrt nach Klingenzell
PRIORITY:5
X-MICROSOFT-CDO-IMPORTANCE:1
CLASS:PUBLIC
END:VEVENT
END:VCALENDAR
