BEGIN:VCALENDAR
PRODID:-//kirchenweb.ch gmbh//veranstaltungsausgabe v2.0//DE
VERSION:2.0
METHOD:PUBLISH
BEGIN:VEVENT
DTSTART:20260517T150000Z
DTEND:20260517T160000Z
LOCATION:Bruderklausen-Kapelle\, Gerlikonerstrasse\, 8500 Frauenfeld
TRANSP:OPAQUE
SEQUENCE:0
UID:51940-veranstaltung@kath-frauenfeldplus.ch
DTSTAMP:20260415T125034Z
DESCRIPTION:Kontakt: claudia.frei@kath-frauenfeldplus.ch\n\nWeitere Infos:
  https://www.kath-frauenfeldplus.ch/veranstaltung/51940
SUMMARY:Ökum. Taizé Gebet Bruderklausen-Kapelle
PRIORITY:5
X-MICROSOFT-CDO-IMPORTANCE:1
CLASS:PUBLIC
END:VEVENT
END:VCALENDAR
