BEGIN:VCALENDAR
PRODID:-//kirchenweb.ch gmbh//veranstaltungsausgabe v2.0//DE
VERSION:2.0
METHOD:PUBLISH
BEGIN:VEVENT
DTSTART:20270321T160000Z
DTEND:20270321T170000Z
LOCATION:Klösterli Frauenfeld\, Klösterliweg 7\, 8500 Frauenfeld
TRANSP:OPAQUE
SEQUENCE:0
UID:51948-veranstaltung@kath-frauenfeldplus.ch
DTSTAMP:20260420T090248Z
DESCRIPTION:Ein Jugendgottesdienst\, in dem du gesehen wirst\, in dem du
  sein kannst\, der dir Raum schenkt. \n\nKontakt: Alessia Ravara\,
  Katechetin RPI\n\nWeitere Infos:
  https://www.kath-frauenfeldplus.ch/veranstaltung/51948
SUMMARY:Jugendgottesdienst MUMENT
PRIORITY:5
X-MICROSOFT-CDO-IMPORTANCE:1
CLASS:PUBLIC
END:VEVENT
END:VCALENDAR
