BEGIN:VCALENDAR
PRODID:-//kirchenweb.ch gmbh//veranstaltungsausgabe v2.0//DE
VERSION:2.0
METHOD:PUBLISH
BEGIN:VEVENT
DTSTART:20270326T160000Z
DTEND:20270326T170000Z
LOCATION:Klösterli Frauenfeld\, Klösterliweg 7\, 8500 Frauenfeld
TRANSP:OPAQUE
SEQUENCE:0
UID:51950-veranstaltung@kath-frauenfeldplus.ch
DTSTAMP:20260420T090307Z
DESCRIPTION:Kreuzweg \nSchmerz\, Tod und Trauer - umgehen mit den
  dunkelsten Stunden des Lebens.\n\nKontakt: Alessia Ravara\, Katechetin
  RPI\n\nWeitere Infos:
  https://www.kath-frauenfeldplus.ch/veranstaltung/51950
SUMMARY:Jugendgottesdienst MUMENT
PRIORITY:5
X-MICROSOFT-CDO-IMPORTANCE:1
CLASS:PUBLIC
END:VEVENT
END:VCALENDAR
