BEGIN:VCALENDAR
PRODID:-//kirchenweb.ch gmbh//veranstaltungsausgabe v2.0//DE
VERSION:2.0
METHOD:PUBLISH
BEGIN:VEVENT
DTSTART:20260429T123000Z
DTEND:20260429T133000Z
LOCATION:Stadtlabor Frauenfeld\, Zürcherstrasse 158\, Frauenfeld\, \,
TRANSP:OPAQUE
SEQUENCE:0
UID:51975-veranstaltung@kath-frauenfeldplus.ch
DTSTAMP:20260422T185419Z
DESCRIPTION:Weitere Informationen:
  https://www.kath-frauenfeldplus.ch/bericht/2977\n\nKontakt: Fachstelle
  Alters- und Generationenfragen der Stadt Frauenfeld\, 052 724 53 00\, 
 \nwww.altersfreundliches-frauenfeld.ch\n\nWeitere Infos:
  https://www.kath-frauenfeldplus.ch/veranstaltung/51975
SUMMARY:Weltwunschtag - Forum Palliative Care Frauenfeld
PRIORITY:5
X-MICROSOFT-CDO-IMPORTANCE:1
CLASS:PUBLIC
END:VEVENT
END:VCALENDAR
